Package: PeacoQC Version: 1.16.0 Command: rm -rf PeacoQC.buildbin-libdir && mkdir PeacoQC.buildbin-libdir && /Users/biocbuild/BBS/utils/build-universal.sh PeacoQC_1.16.0.tar.gz /Library/Frameworks/R.framework/Resources/bin/R PeacoQC.buildbin-libdir StartedAt: 2025-01-31 13:21:55 -0500 (Fri, 31 Jan 2025) EndedAt: 2025-01-31 13:22:30 -0500 (Fri, 31 Jan 2025) EllapsedTime: 34.8 seconds RetCode: 0 Status: OK PackageFile: PeacoQC_1.16.0.tgz PackageFileSize: 1.598 MiB