Package: PeacoQC Version: 1.16.0 Command: /Library/Frameworks/R.framework/Resources/bin/R CMD build --keep-empty-dirs --no-resave-data PeacoQC StartedAt: 2025-02-03 21:12:35 -0500 (Mon, 03 Feb 2025) EndedAt: 2025-02-03 21:14:42 -0500 (Mon, 03 Feb 2025) EllapsedTime: 127.9 seconds RetCode: 0 Status: OK PackageFile: PeacoQC_1.16.0.tar.gz PackageFileSize: 1.521 MiB