Package: PeacoQC Version: 1.16.0 Command: /Library/Frameworks/R.framework/Resources/bin/R CMD check --install=check:PeacoQC.install-out.txt --library=/Library/Frameworks/R.framework/Resources/library --no-vignettes --timings PeacoQC_1.16.0.tar.gz StartedAt: 2025-02-04 07:50:46 -0500 (Tue, 04 Feb 2025) EndedAt: 2025-02-04 07:55:03 -0500 (Tue, 04 Feb 2025) EllapsedTime: 257.1 seconds RetCode: 0 Status: OK CheckDir: PeacoQC.Rcheck Warnings: 0