Package: PeacoQC Version: 1.16.0 Command: /Library/Frameworks/R.framework/Resources/bin/R CMD INSTALL PeacoQC StartedAt: 2025-01-30 15:50:24 -0500 (Thu, 30 Jan 2025) EndedAt: 2025-01-30 15:50:58 -0500 (Thu, 30 Jan 2025) EllapsedTime: 34.0 seconds RetCode: 0 Status: OK