Package: PeacoQC Version: 1.16.0 Command: /home/biocbuild/bbs-3.20-bioc/R/bin/R CMD build --keep-empty-dirs --no-resave-data --md5 PeacoQC StartedAt: 2025-02-03 18:41:49 -0500 (Mon, 03 Feb 2025) EndedAt: 2025-02-03 18:42:37 -0500 (Mon, 03 Feb 2025) EllapsedTime: 48.0 seconds RetCode: 0 Status: OK PackageFile: PeacoQC_1.16.0.tar.gz PackageFileSize: 1.521 MiB