Package: PeacoQC Version: 1.16.0 Command: /home/biocbuild/R/R/bin/R CMD build --keep-empty-dirs --no-resave-data PeacoQC StartedAt: 2025-02-04 01:47:34 -0000 (Tue, 04 Feb 2025) EndedAt: 2025-02-04 01:48:35 -0000 (Tue, 04 Feb 2025) EllapsedTime: 61.1 seconds RetCode: 0 Status: OK PackageFile: PeacoQC_1.16.0.tar.gz PackageFileSize: 1.517 MiB