Package: PeacoQC Version: 1.16.0 Command: /home/biocbuild/R/R/bin/R CMD INSTALL PeacoQC StartedAt: 2025-02-03 20:49:59 -0000 (Mon, 03 Feb 2025) EndedAt: 2025-02-03 20:50:17 -0000 (Mon, 03 Feb 2025) EllapsedTime: 18.2 seconds RetCode: 0 Status: OK