Package: Pedixplorer Version: 1.2.0 Command: rm -rf Pedixplorer.buildbin-libdir && mkdir Pedixplorer.buildbin-libdir && /Users/biocbuild/BBS/utils/build-universal.sh Pedixplorer_1.2.0.tar.gz /Library/Frameworks/R.framework/Resources/bin/R Pedixplorer.buildbin-libdir StartedAt: 2025-02-19 16:24:24 -0500 (Wed, 19 Feb 2025) EndedAt: 2025-02-19 16:24:48 -0500 (Wed, 19 Feb 2025) EllapsedTime: 23.6 seconds RetCode: 0 Status: OK PackageFile: Pedixplorer_1.2.0.tgz PackageFileSize: 3.908 <A href="http://en.wikipedia.org/wiki/MiB" target="_blank">MiB</A>