Package: Pedixplorer Version: 1.2.0 Command: /home/biocbuild/R/R/bin/R CMD check --install=check:Pedixplorer.install-out.txt --library=/home/biocbuild/R/R/site-library --no-vignettes --timings Pedixplorer_1.2.0.tar.gz StartedAt: 2025-02-04 09:47:11 -0000 (Tue, 04 Feb 2025) EndedAt: 2025-02-04 09:50:28 -0000 (Tue, 04 Feb 2025) EllapsedTime: 197.3 seconds RetCode: 0 Status: OK CheckDir: Pedixplorer.Rcheck Warnings: 0