Package: PepSetTest
Version: 1.0.0
Command: /Library/Frameworks/R.framework/Resources/bin/R CMD build --keep-empty-dirs --no-resave-data PepSetTest
StartedAt: 2024-11-08 18:32:33 -0500 (Fri, 08 Nov 2024)
EndedAt: 2024-11-08 18:32:41 -0500 (Fri, 08 Nov 2024)
EllapsedTime: 8.1 seconds
RetCode: 0
Status: OK
PackageFile: PepSetTest_1.0.0.tar.gz
PackageFileSize: 248.4 <A href="http://en.wikipedia.org/wiki/KiB" target="_blank">KiB</A>