Package: PepSetTest Version: 1.0.0 Command: /home/biocbuild/bbs-3.20-bioc/R/bin/R CMD check --install=check:PepSetTest.install-out.txt --library=/home/biocbuild/bbs-3.20-bioc/R/site-library --timings PepSetTest_1.0.0.tar.gz StartedAt: 2025-02-04 01:09:35 -0500 (Tue, 04 Feb 2025) EndedAt: 2025-02-04 01:10:31 -0500 (Tue, 04 Feb 2025) EllapsedTime: 55.1 seconds RetCode: 0 Status: OK CheckDir: PepSetTest.Rcheck Warnings: 0