Package: PepSetTest Version: 1.0.0 Command: /home/biocbuild/bbs-3.20-bioc/R/bin/R CMD INSTALL PepSetTest StartedAt: 2025-02-03 15:21:04 -0500 (Mon, 03 Feb 2025) EndedAt: 2025-02-03 15:21:07 -0500 (Mon, 03 Feb 2025) EllapsedTime: 2.8 seconds RetCode: 0 Status: OK