Package: PepSetTest Version: 1.0.0 Command: rm -rf PepSetTest.buildbin-libdir && mkdir PepSetTest.buildbin-libdir && F:\biocbuild\bbs-3.20-bioc\R\bin\R.exe CMD INSTALL --build --library=PepSetTest.buildbin-libdir PepSetTest_1.0.0.tar.gz StartedAt: 2025-02-04 09:09:35 -0500 (Tue, 04 Feb 2025) EndedAt: 2025-02-04 09:09:52 -0500 (Tue, 04 Feb 2025) EllapsedTime: 16.8 seconds RetCode: 0 Status: OK PackageFile: PepSetTest_1.0.0.zip PackageFileSize: 320.5 KiB