Package: PepsNMR Version: 1.24.0 Command: rm -rf PepsNMR.buildbin-libdir && mkdir PepsNMR.buildbin-libdir && /Users/biocbuild/BBS/utils/build-universal.sh PepsNMR_1.24.0.tar.gz /Library/Frameworks/R.framework/Resources/bin/R PepsNMR.buildbin-libdir StartedAt: 2025-02-04 13:45:43 -0500 (Tue, 04 Feb 2025) EndedAt: 2025-02-04 13:46:36 -0500 (Tue, 04 Feb 2025) EllapsedTime: 53.5 seconds RetCode: 0 Status: OK PackageFile: PepsNMR_1.24.0.tgz PackageFileSize: 1.364 MiB