Package: PhIPData Version: 1.14.0 Command: rm -rf PhIPData.buildbin-libdir && mkdir PhIPData.buildbin-libdir && /Users/biocbuild/BBS/utils/build-universal.sh PhIPData_1.14.0.tar.gz /Library/Frameworks/R.framework/Resources/bin/R PhIPData.buildbin-libdir StartedAt: 2025-02-05 17:07:25 -0500 (Wed, 05 Feb 2025) EndedAt: 2025-02-05 17:08:00 -0500 (Wed, 05 Feb 2025) EllapsedTime: 34.2 seconds RetCode: 0 Status: OK PackageFile: PhIPData_1.14.0.tgz PackageFileSize: 1.17 MiB