Package: PhIPData Version: 1.14.0 Command: /Library/Frameworks/R.framework/Resources/bin/R CMD build --keep-empty-dirs --no-resave-data PhIPData StartedAt: 2025-02-03 21:16:58 -0500 (Mon, 03 Feb 2025) EndedAt: 2025-02-03 21:18:37 -0500 (Mon, 03 Feb 2025) EllapsedTime: 99.0 seconds RetCode: 0 Status: OK PackageFile: PhIPData_1.14.0.tar.gz PackageFileSize: 820.7 KiB