Package: PhIPData Version: 1.14.0 Command: /home/biocbuild/bbs-3.20-bioc/R/bin/R CMD INSTALL PhIPData StartedAt: 2025-02-03 15:24:55 -0500 (Mon, 03 Feb 2025) EndedAt: 2025-02-03 15:25:20 -0500 (Mon, 03 Feb 2025) EllapsedTime: 25.0 seconds RetCode: 0 Status: OK