Package: PharmacoGx Version: 3.10.1 Command: /Library/Frameworks/R.framework/Resources/bin/R CMD check --install=check:PharmacoGx.install-out.txt --library=/Library/Frameworks/R.framework/Resources/library --no-vignettes --timings PharmacoGx_3.10.1.tar.gz StartedAt: 2025-02-05 05:21:45 -0500 (Wed, 05 Feb 2025) EndedAt: 2025-02-05 05:28:10 -0500 (Wed, 05 Feb 2025) EllapsedTime: 384.6 seconds RetCode: 0 Status: OK CheckDir: PharmacoGx.Rcheck Warnings: 0