Package: PharmacoGx Version: 3.10.1 Command: rm -rf PharmacoGx.buildbin-libdir && mkdir PharmacoGx.buildbin-libdir && /Users/biocbuild/BBS/utils/build-universal.sh PharmacoGx_3.10.1.tar.gz /Library/Frameworks/R.framework/Resources/bin/R PharmacoGx.buildbin-libdir StartedAt: 2025-02-04 13:46:11 -0500 (Tue, 04 Feb 2025) EndedAt: 2025-02-04 13:49:14 -0500 (Tue, 04 Feb 2025) EllapsedTime: 183.3 seconds RetCode: 0 Status: OK PackageFile: PharmacoGx_3.10.1.tgz PackageFileSize: 3.881 MiB