Package: PharmacoGx Version: 3.10.1 Command: /Library/Frameworks/R.framework/Resources/bin/R CMD INSTALL PharmacoGx StartedAt: 2025-02-03 16:23:38 -0500 (Mon, 03 Feb 2025) EndedAt: 2025-02-03 16:25:17 -0500 (Mon, 03 Feb 2025) EllapsedTime: 98.6 seconds RetCode: 0 Status: OK