Package: PharmacoGx Version: 3.10.1 Command: /home/biocbuild/bbs-3.20-bioc/R/bin/R CMD INSTALL PharmacoGx StartedAt: 2025-02-03 15:53:37 -0500 (Mon, 03 Feb 2025) EndedAt: 2025-02-03 15:54:26 -0500 (Mon, 03 Feb 2025) EllapsedTime: 48.8 seconds RetCode: 0 Status: OK