Package: PhenStat Version: 2.42.0 Command: /Library/Frameworks/R.framework/Resources/bin/R CMD INSTALL PhenStat StartedAt: 2025-02-03 17:15:58 -0500 (Mon, 03 Feb 2025) EndedAt: 2025-02-03 17:16:16 -0500 (Mon, 03 Feb 2025) EllapsedTime: 18.3 seconds RetCode: 0 Status: OK