Package: PhenStat Version: 2.42.0 Command: /Library/Frameworks/R.framework/Resources/bin/R CMD INSTALL PhenStat StartedAt: 2025-02-03 16:21:23 -0500 (Mon, 03 Feb 2025) EndedAt: 2025-02-03 16:22:02 -0500 (Mon, 03 Feb 2025) EllapsedTime: 38.5 seconds RetCode: 0 Status: OK