Package: PhenStat Version: 2.42.0 Command: /home/biocbuild/bbs-3.20-bioc/R/bin/R CMD build --keep-empty-dirs --no-resave-data --md5 PhenStat StartedAt: 2025-02-03 18:43:50 -0500 (Mon, 03 Feb 2025) EndedAt: 2025-02-03 18:44:17 -0500 (Mon, 03 Feb 2025) EllapsedTime: 27.0 seconds RetCode: 0 Status: OK PackageFile: PhenStat_2.42.0.tar.gz PackageFileSize: 685.2 KiB