Package: PhenStat Version: 2.42.0 Command: /home/biocbuild/bbs-3.20-bioc/R/bin/R CMD check --install=check:PhenStat.install-out.txt --library=/home/biocbuild/bbs-3.20-bioc/R/site-library --timings PhenStat_2.42.0.tar.gz StartedAt: 2025-02-04 01:11:50 -0500 (Tue, 04 Feb 2025) EndedAt: 2025-02-04 01:13:51 -0500 (Tue, 04 Feb 2025) EllapsedTime: 121.1 seconds RetCode: 0 Status: OK CheckDir: PhenStat.Rcheck Warnings: 0