Package: PhosR Version: 1.16.0 Command: /Library/Frameworks/R.framework/Resources/bin/R CMD build --keep-empty-dirs --no-resave-data PhosR StartedAt: 2025-02-04 05:31:30 -0500 (Tue, 04 Feb 2025) EndedAt: 2025-02-04 05:34:37 -0500 (Tue, 04 Feb 2025) EllapsedTime: 187.0 seconds RetCode: 0 Status: OK PackageFile: PhosR_1.16.0.tar.gz PackageFileSize: 7.97 MiB