Package: PhosR Version: 1.16.0 Command: /Library/Frameworks/R.framework/Resources/bin/R CMD check --install=check:PhosR.install-out.txt --library=/Library/Frameworks/R.framework/Resources/library --no-vignettes --timings PhosR_1.16.0.tar.gz StartedAt: 2025-02-05 05:28:51 -0500 (Wed, 05 Feb 2025) EndedAt: 2025-02-05 05:34:58 -0500 (Wed, 05 Feb 2025) EllapsedTime: 366.2 seconds RetCode: 0 Status: OK CheckDir: PhosR.Rcheck Warnings: 0