Package: PhosR Version: 1.16.0 Command: /Library/Frameworks/R.framework/Resources/bin/R CMD check --install=check:PhosR.install-out.txt --library=/Library/Frameworks/R.framework/Resources/library --no-vignettes --timings PhosR_1.16.0.tar.gz StartedAt: 2025-02-04 07:58:08 -0500 (Tue, 04 Feb 2025) EndedAt: 2025-02-04 08:12:30 -0500 (Tue, 04 Feb 2025) EllapsedTime: 862.0 seconds RetCode: 0 Status: OK CheckDir: PhosR.Rcheck Warnings: 0