Package: PhosR
Version: 1.16.0
Command: /home/biocbuild/bbs-3.20-bioc/R/bin/R CMD check --install=check:PhosR.install-out.txt --library=/home/biocbuild/bbs-3.20-bioc/R/site-library --timings PhosR_1.16.0.tar.gz
StartedAt: 2025-02-14 01:06:06 -0500 (Fri, 14 Feb 2025)
EndedAt: 2025-02-14 01:13:50 -0500 (Fri, 14 Feb 2025)
EllapsedTime: 464.6 seconds
RetCode: 0
Status: OK
CheckDir: PhosR.Rcheck
Warnings: 0