Package: PhyloProfile Version: 1.20.4 Command: /Library/Frameworks/R.framework/Resources/bin/R CMD check --install=check:PhyloProfile.install-out.txt --library=/Library/Frameworks/R.framework/Resources/library --no-vignettes --timings PhyloProfile_1.20.4.tar.gz StartedAt: 2025-02-04 07:58:39 -0500 (Tue, 04 Feb 2025) EndedAt: 2025-02-04 08:05:33 -0500 (Tue, 04 Feb 2025) EllapsedTime: 414.3 seconds RetCode: 0 Status: OK CheckDir: PhyloProfile.Rcheck Warnings: 0