Package: PhyloProfile Version: 1.20.4 Command: /home/biocbuild/bbs-3.20-bioc/R/bin/R CMD build --keep-empty-dirs --no-resave-data --md5 PhyloProfile StartedAt: 2025-02-03 18:44:17 -0500 (Mon, 03 Feb 2025) EndedAt: 2025-02-03 18:44:55 -0500 (Mon, 03 Feb 2025) EllapsedTime: 38.1 seconds RetCode: 0 Status: OK PackageFile: PhyloProfile_1.20.4.tar.gz PackageFileSize: 1.429 MiB