Package: PhyloProfile Version: 1.20.4 Command: /home/biocbuild/bbs-3.20-bioc/R/bin/R CMD check --install=check:PhyloProfile.install-out.txt --library=/home/biocbuild/bbs-3.20-bioc/R/site-library --timings PhyloProfile_1.20.4.tar.gz StartedAt: 2025-02-04 01:12:45 -0500 (Tue, 04 Feb 2025) EndedAt: 2025-02-04 01:15:52 -0500 (Tue, 04 Feb 2025) EllapsedTime: 187.1 seconds RetCode: 0 Status: OK CheckDir: PhyloProfile.Rcheck Warnings: 0