Package: PhyloProfile Version: 1.20.4 Command: /home/biocbuild/bbs-3.20-bioc/R/bin/R CMD INSTALL PhyloProfile StartedAt: 2025-02-03 15:43:31 -0500 (Mon, 03 Feb 2025) EndedAt: 2025-02-03 15:43:56 -0500 (Mon, 03 Feb 2025) EllapsedTime: 24.8 seconds RetCode: 0 Status: OK