Package: PhyloProfile
Version: 1.19.5
Command: rm -rf PhyloProfile.buildbin-libdir && mkdir PhyloProfile.buildbin-libdir && C:\Users\biocbuild\bbs-3.20-bioc\R\bin\R.exe CMD INSTALL --build --library=PhyloProfile.buildbin-libdir PhyloProfile_1.19.5.tar.gz
StartedAt: 2024-07-16 06:33:51 -0400 (Tue, 16 Jul 2024)
EndedAt: 2024-07-16 06:34:26 -0400 (Tue, 16 Jul 2024)
EllapsedTime: 35.2 seconds
RetCode: 0
Status: OK
PackageFile: PhyloProfile_1.19.5.zip
PackageFileSize: 1.257 <A href="http://en.wikipedia.org/wiki/MiB" target="_blank">MiB</A>