Package: PhyloProfile Version: 1.20.4 Command: rm -rf PhyloProfile.buildbin-libdir && mkdir PhyloProfile.buildbin-libdir && F:\biocbuild\bbs-3.20-bioc\R\bin\R.exe CMD INSTALL --build --library=PhyloProfile.buildbin-libdir PhyloProfile_1.20.4.tar.gz StartedAt: 2025-02-04 09:10:44 -0500 (Tue, 04 Feb 2025) EndedAt: 2025-02-04 09:13:09 -0500 (Tue, 04 Feb 2025) EllapsedTime: 144.5 seconds RetCode: 0 Status: OK PackageFile: PhyloProfile_1.20.4.zip PackageFileSize: 1.292 MiB