Package: PhyloProfile Version: 1.20.4 Command: chmod a+r PhyloProfile -R && F:\biocbuild\bbs-3.20-bioc\R\bin\R.exe CMD build --keep-empty-dirs --no-resave-data PhyloProfile StartedAt: 2025-02-03 21:14:02 -0500 (Mon, 03 Feb 2025) EndedAt: 2025-02-03 21:15:14 -0500 (Mon, 03 Feb 2025) EllapsedTime: 72.0 seconds RetCode: 0 Status: OK PackageFile: PhyloProfile_1.20.4.tar.gz PackageFileSize: 1.192 MiB