Package: Pi
Version: 2.18.0
Command: /home/biocbuild/R/R/bin/R CMD build --keep-empty-dirs --no-resave-data Pi
StartedAt: 2024-11-20 02:57:45 -0000 (Wed, 20 Nov 2024)
EndedAt: 2024-11-20 02:57:47 -0000 (Wed, 20 Nov 2024)
EllapsedTime: 2.0 seconds
RetCode: 1
Status: ERROR
PackageFile: None
PackageFileSize: NA