Package: Pi Version: 2.18.0 Command: chmod a+r Pi -R && F:\biocbuild\bbs-3.20-bioc\R\bin\R.exe CMD build --keep-empty-dirs --no-resave-data Pi StartedAt: 2025-02-03 21:14:32 -0500 (Mon, 03 Feb 2025) EndedAt: 2025-02-03 21:14:42 -0500 (Mon, 03 Feb 2025) EllapsedTime: 10.3 seconds RetCode: 1 Status: ERROR PackageFile: None PackageFileSize: NA