##############################################################################
##############################################################################
###
### Running command:
###
###   /home/biocbuild/bbs-3.20-bioc/R/bin/R CMD INSTALL Pi
###
##############################################################################
##############################################################################


* installing to library ‘/media/volume/teran2_disk/biocbuild/bbs-3.20-bioc/R/site-library’
ERROR: dependency ‘dnet’ is not available for package ‘Pi’
* removing ‘/media/volume/teran2_disk/biocbuild/bbs-3.20-bioc/R/site-library/Pi’