Package: Pigengene Version: 1.32.0 Command: rm -rf Pigengene.buildbin-libdir && mkdir Pigengene.buildbin-libdir && /Users/biocbuild/BBS/utils/build-universal.sh Pigengene_1.32.0.tar.gz /Library/Frameworks/R.framework/Resources/bin/R Pigengene.buildbin-libdir StartedAt: 2025-02-05 17:07:39 -0500 (Wed, 05 Feb 2025) EndedAt: 2025-02-05 17:08:14 -0500 (Wed, 05 Feb 2025) EllapsedTime: 35.1 seconds RetCode: 0 Status: OK PackageFile: Pigengene_1.32.0.tgz PackageFileSize: 2.969 MiB