Package: Pigengene Version: 1.32.0 Command: /Library/Frameworks/R.framework/Resources/bin/R CMD build --keep-empty-dirs --no-resave-data Pigengene StartedAt: 2025-02-04 05:33:21 -0500 (Tue, 04 Feb 2025) EndedAt: 2025-02-04 05:37:44 -0500 (Tue, 04 Feb 2025) EllapsedTime: 262.9 seconds RetCode: 0 Status: OK PackageFile: Pigengene_1.32.0.tar.gz PackageFileSize: 2.698 MiB