Package: Pigengene
Version: 1.32.0
Command: /Library/Frameworks/R.framework/Resources/bin/R CMD INSTALL Pigengene
StartedAt: 2024-11-08 15:47:51 -0500 (Fri, 08 Nov 2024)
EndedAt: 2024-11-08 15:48:02 -0500 (Fri, 08 Nov 2024)
EllapsedTime: 10.3 seconds
RetCode: 0
Status: OK