Package: Pigengene Version: 1.32.0 Command: /home/biocbuild/R/R/bin/R CMD INSTALL Pigengene StartedAt: 2025-02-03 21:19:17 -0000 (Mon, 03 Feb 2025) EndedAt: 2025-02-03 21:19:52 -0000 (Mon, 03 Feb 2025) EllapsedTime: 35.0 seconds RetCode: 0 Status: OK