Package: Pirat Version: 1.0.2 Command: rm -rf Pirat.buildbin-libdir && mkdir Pirat.buildbin-libdir && F:\biocbuild\bbs-3.20-bioc\R\bin\R.exe CMD INSTALL --build --library=Pirat.buildbin-libdir Pirat_1.0.2.tar.gz StartedAt: 2025-02-04 09:11:21 -0500 (Tue, 04 Feb 2025) EndedAt: 2025-02-04 09:11:53 -0500 (Tue, 04 Feb 2025) EllapsedTime: 32.1 seconds RetCode: 0 Status: OK PackageFile: Pirat_1.0.2.zip PackageFileSize: 2.636 MiB