Package: PoDCall Version: 1.14.0 Command: /Library/Frameworks/R.framework/Resources/bin/R CMD build --keep-empty-dirs --no-resave-data PoDCall StartedAt: 2025-01-31 05:30:11 -0500 (Fri, 31 Jan 2025) EndedAt: 2025-01-31 05:30:35 -0500 (Fri, 31 Jan 2025) EllapsedTime: 24.1 seconds RetCode: 0 Status: OK PackageFile: PoDCall_1.14.0.tar.gz PackageFileSize: 3.048 MiB