Package: PoDCall Version: 1.14.0 Command: /Library/Frameworks/R.framework/Resources/bin/R CMD check --install=check:PoDCall.install-out.txt --library=/Library/Frameworks/R.framework/Resources/library --no-vignettes --timings PoDCall_1.14.0.tar.gz StartedAt: 2025-02-01 04:57:51 -0500 (Sat, 01 Feb 2025) EndedAt: 2025-02-01 05:07:23 -0500 (Sat, 01 Feb 2025) EllapsedTime: 571.9 seconds RetCode: 0 Status: OK CheckDir: PoDCall.Rcheck Warnings: 0