Package: PoDCall Version: 1.14.0 Command: /Library/Frameworks/R.framework/Resources/bin/R CMD INSTALL PoDCall StartedAt: 2025-01-30 16:39:01 -0500 (Thu, 30 Jan 2025) EndedAt: 2025-01-30 16:39:05 -0500 (Thu, 30 Jan 2025) EllapsedTime: 4.6 seconds RetCode: 0 Status: OK