Package: PoDCall Version: 1.14.0 Command: /Library/Frameworks/R.framework/Resources/bin/R CMD check --install=check:PoDCall.install-out.txt --library=/Library/Frameworks/R.framework/Resources/library --no-vignettes --timings PoDCall_1.14.0.tar.gz StartedAt: 2025-01-31 08:09:38 -0500 (Fri, 31 Jan 2025) EndedAt: 2025-01-31 08:21:55 -0500 (Fri, 31 Jan 2025) EllapsedTime: 736.8 seconds RetCode: 0 Status: OK CheckDir: PoDCall.Rcheck Warnings: 0