Package: PoDCall Version: 1.14.0 Command: /Library/Frameworks/R.framework/Resources/bin/R CMD INSTALL PoDCall StartedAt: 2025-01-30 15:57:00 -0500 (Thu, 30 Jan 2025) EndedAt: 2025-01-30 15:57:10 -0500 (Thu, 30 Jan 2025) EllapsedTime: 9.6 seconds RetCode: 0 Status: OK