Package: PoDCall Version: 1.14.0 Command: /home/biocbuild/bbs-3.20-bioc/R/bin/R CMD build --keep-empty-dirs --no-resave-data --md5 PoDCall StartedAt: 2025-01-30 18:36:19 -0500 (Thu, 30 Jan 2025) EndedAt: 2025-01-30 18:36:38 -0500 (Thu, 30 Jan 2025) EllapsedTime: 19.0 seconds RetCode: 0 Status: OK PackageFile: PoDCall_1.14.0.tar.gz PackageFileSize: 2.997 MiB